BEGIN:VCALENDAR
VERSION:2.0
PRODID:-//Will County - Habitat for Humanity - ECPv6.15.20//NONSGML v1.0//EN
CALSCALE:GREGORIAN
METHOD:PUBLISH
X-ORIGINAL-URL:https://habitatwill.org
X-WR-CALDESC:Events for Will County - Habitat for Humanity
REFRESH-INTERVAL;VALUE=DURATION:PT1H
X-Robots-Tag:noindex
X-PUBLISHED-TTL:PT1H
BEGIN:VTIMEZONE
TZID:America/Chicago
BEGIN:DAYLIGHT
TZOFFSETFROM:-0600
TZOFFSETTO:-0500
TZNAME:CDT
DTSTART:20240310T080000
END:DAYLIGHT
BEGIN:STANDARD
TZOFFSETFROM:-0500
TZOFFSETTO:-0600
TZNAME:CST
DTSTART:20241103T070000
END:STANDARD
BEGIN:DAYLIGHT
TZOFFSETFROM:-0600
TZOFFSETTO:-0500
TZNAME:CDT
DTSTART:20250309T080000
END:DAYLIGHT
BEGIN:STANDARD
TZOFFSETFROM:-0500
TZOFFSETTO:-0600
TZNAME:CST
DTSTART:20251102T070000
END:STANDARD
BEGIN:DAYLIGHT
TZOFFSETFROM:-0600
TZOFFSETTO:-0500
TZNAME:CDT
DTSTART:20260308T080000
END:DAYLIGHT
BEGIN:STANDARD
TZOFFSETFROM:-0500
TZOFFSETTO:-0600
TZNAME:CST
DTSTART:20261101T070000
END:STANDARD
END:VTIMEZONE
BEGIN:VEVENT
DTSTART;TZID=America/Chicago:20250605T180000
DTEND;TZID=America/Chicago:20250606T190000
DTSTAMP:20260420T190443
CREATED:20250519T184425Z
LAST-MODIFIED:20250519T184433Z
UID:10000053-1749146400-1749236400@habitatwill.org
SUMMARY:Homeownership Orientation
DESCRIPTION:May 29		\n\n					\n				 at 			\n			\n				7:00 pm			\n		\n									\n					 - 				\n			\n							\n					11:30 pm				\n			\n						 \n\n\nThe Mix of ’26 kicks off Friday night with a high-energy outdoor concert on the grounds of Hollywood Casino Joliet. \nFeaturing crowd-favorite\, 7th Heaven and the Midwest’s #1 country rock band\, Hillbilly Rockstarz\, Friday night is all about coming together for music\, food and fun. \n\nGuests can enjoy: \n\n\nOutdoor concert experience\n\nFood trucks and festival-style food options\n\nBeverages will be available for purchase\n\nEasy access to the brand-new Hollywood Casino Joliet\n\n\nPlease note: No alcohol tastings are happening on Friday. \n\n			 $25 \n				General Admission\n	\n\n	\n	\n\n	\n		Hollywood Casino Joliet\n	\n\n	\n						\n				\n\n1401 Gateway Blvd.\n	\n		\n		Joliet\,\n\n	Illinois\n\n	60431\n\n\n\n\n									+ Google Map							\n		\n		\n			\n	\n	\n\n	\n\n\n\n\n	\n	\n		\n			\n				\n					\n						\n	\n	\n\n						\n							Add to calendar						\n						\n	\n\n					\n					\n						\n															\n									\n										Google Calendar									\n								\n															\n									\n										iCalendar									\n								\n															\n									\n										Outlook 365									\n								\n															\n									\n										Outlook Live									\n								\n													\n					\n				\n			\n		\n	\n\n								\n				\n					\n		\n					\n		\n				\n						\n					\n			\n						\n				\n																														\n				\n					\n		\n					\n		\n				\n						\n					\n			\n						\n				\n									\n					\n						\n									EVENT DETAILS
URL:https://habitatwill.org/event/homeownership-orientation-4/
LOCATION:Joliet ReStore\, 1395 N Larkin Ave\, Joliet\, Illinois\, 60435\, United States
CATEGORIES:Education,Homeownership
ATTACH;FMTTYPE=image/jpeg:https://habitatwill.org/wp-content/uploads/2025/02/IMG_0653-scaled.jpg
END:VEVENT
BEGIN:VEVENT
DTSTART;TZID=America/Chicago:20250607T110000
DTEND;TZID=America/Chicago:20250607T120000
DTSTAMP:20260420T190444
CREATED:20250519T184818Z
LAST-MODIFIED:20250815T023442Z
UID:10000055-1749294000-1749297600@habitatwill.org
SUMMARY:Homeownership Orientation
DESCRIPTION:May 29		\n\n					\n				 at 			\n			\n				7:00 pm			\n		\n									\n					 - 				\n			\n							\n					11:30 pm				\n			\n						 \n\n\nThe Mix of ’26 kicks off Friday night with a high-energy outdoor concert on the grounds of Hollywood Casino Joliet. \nFeaturing crowd-favorite\, 7th Heaven and the Midwest’s #1 country rock band\, Hillbilly Rockstarz\, Friday night is all about coming together for music\, food and fun. \n\nGuests can enjoy: \n\n\nOutdoor concert experience\n\nFood trucks and festival-style food options\n\nBeverages will be available for purchase\n\nEasy access to the brand-new Hollywood Casino Joliet\n\n\nPlease note: No alcohol tastings are happening on Friday. \n\n			 $25 \n				General Admission\n	\n\n	\n	\n\n	\n		Hollywood Casino Joliet\n	\n\n	\n						\n				\n\n1401 Gateway Blvd.\n	\n		\n		Joliet\,\n\n	Illinois\n\n	60431\n\n\n\n\n									+ Google Map							\n		\n		\n			\n	\n	\n\n	\n\n\n\n\n	\n	\n		\n			\n				\n					\n						\n	\n	\n\n						\n							Add to calendar						\n						\n	\n\n					\n					\n						\n															\n									\n										Google Calendar									\n								\n															\n									\n										iCalendar									\n								\n															\n									\n										Outlook 365									\n								\n															\n									\n										Outlook Live									\n								\n													\n					\n				\n			\n		\n	\n\n								\n				\n					\n		\n					\n		\n				\n						\n					\n			\n						\n				\n																														\n				\n					\n		\n					\n		\n				\n						\n					\n			\n						\n				\n									\n					\n						\n									EVENT DETAILS
URL:https://habitatwill.org/event/homeownership-orientation-5/
LOCATION:Joliet ReStore\, 1395 N Larkin Ave\, Joliet\, Illinois\, 60435\, United States
CATEGORIES:Education,Homeownership
ATTACH;FMTTYPE=image/jpeg:https://habitatwill.org/wp-content/uploads/2025/02/IMG_0653-scaled.jpg
END:VEVENT
END:VCALENDAR